BEGIN:VCALENDAR
CALSCALE:GREGORIAN
X-WR-TIMEZONE;VALUE=TEXT:GMT
PRODID:PEAK Corporation - piCal -
X-WR-CALNAME;VALUE=TEXT:平成25年度新川地域居宅介護支援事業者連絡協議会研修会
VERSION:2.0
METHOD:PUBLISH
BEGIN:VTIMEZONE
TZID:GMT
BEGIN:STANDARD
DTSTART:19390101T000000
TZOFFSETFROM:+0000
TZOFFSETTO:+0000
TZNAME:GMT
END:STANDARD
END:VTIMEZONE
BEGIN:VEVENT
DTSTART:20130613T050000Z
DTEND:20130613T070000Z
LOCATION:入善町健康交流プラザ　サンウエル　せせらぎホール
TRANSP:OPAQUE
SEQUENCE:2
UID:pical060-2e0e18a0dbc726ca4b6241f3a396faa8
DTSTAMP:20131108T065605Z
CATEGORIES:
DESCRIPTION:　演　　　題　:　「チームで支援する在宅での終末期ケアとは？」\n　　　　　　　　　　　　―　在宅看取り例の現状から　―\n　講　　　師　：　川瀬医院　理事長　川瀬　紀夫　先生\nグループワーク：　「わたしの生き方ノート」を使ってみよう\n
SUMMARY:平成25年度新川地域居宅介護支援事業者連絡協議会研修会
PRIORITY:0
CLASS:PUBLIC
END:VEVENT
END:VCALENDAR
