BEGIN:VCALENDAR
CALSCALE:GREGORIAN
X-WR-TIMEZONE;VALUE=TEXT:GMT
PRODID:PEAK Corporation - piCal -
X-WR-CALNAME;VALUE=TEXT:第57回入善町福寿会連合会総会
VERSION:2.0
METHOD:PUBLISH
BEGIN:VTIMEZONE
TZID:GMT
BEGIN:STANDARD
DTSTART:19390101T000000
TZOFFSETFROM:+0000
TZOFFSETTO:+0000
TZNAME:GMT
END:STANDARD
END:VTIMEZONE
BEGIN:VEVENT
DTSTART;VALUE=DATE:20130523
DTEND;VALUE=DATE:20130524
LOCATION:入善町健康交流プラザ サンウェル　せせらぎホール
TRANSP:OPAQUE
SEQUENCE:0
UID:pical060-d85f417bd637c4301d56e31be248cdb6
DTSTAMP:20131007T072407Z
CATEGORIES:講演
DESCRIPTION:演題：在宅医療ってなぁに？\n講師：中川医院　院長　中川彦人先生\n
SUMMARY:第57回入善町福寿会連合会総会
PRIORITY:0
CLASS:PUBLIC
END:VEVENT
END:VCALENDAR
